BEGIN:VCALENDAR
VERSION:2.0
PRODID:icalendar-ruby
CALSCALE:GREGORIAN
BEGIN:VEVENT
DTSTAMP:20260420T195941Z
UID:5d48d381-925f-415f-a0a2-d26de4be0137
DTSTART;TZID=Pacific/Auckland:20260418T130000
DTEND;TZID=Pacific/Auckland:20260418T133000
DESCRIPTION:Property ID# 1005727
SUMMARY:Openhome for 27 Victoria Street
END:VEVENT
END:VCALENDAR
