BEGIN:VCALENDAR
VERSION:2.0
PRODID:icalendar-ruby
CALSCALE:GREGORIAN
BEGIN:VEVENT
DTSTAMP:20260420T200007Z
UID:2164c17b-517f-471d-ba59-3ed8a2488a29
DTSTART;TZID=Pacific/Auckland:20260418T143000
DTEND;TZID=Pacific/Auckland:20260418T150000
DESCRIPTION:Property ID# 1007255
SUMMARY:Openhome for 89 Ryalls Lane
END:VEVENT
END:VCALENDAR
