BEGIN:VCALENDAR
VERSION:2.0
PRODID:icalendar-ruby
CALSCALE:GREGORIAN
BEGIN:VEVENT
DTSTAMP:20260420T170649Z
UID:f6c68cf4-9d62-44f9-bff3-bde409b1e54b
DTSTART;TZID=Pacific/Auckland:20260423T180000
DTEND;TZID=Pacific/Auckland:20260423T183000
DESCRIPTION:Property ID# 1006636
SUMMARY:Openhome for 2/12 Gordon Street
END:VEVENT
END:VCALENDAR
